BEGIN:VCALENDAR
VERSION:2.0
PRODID:SchoolNow
CALSCALE:GREGORIAN
BEGIN:VEVENT
UID:4229476a-b3b2-11e9-97a5-12d377995672
DTSTAMP:20190731T164300Z
SUMMARY:Winter Break
URL;VALUE=URI:https://www.dist126.org/hazelgreen/calendar/2043331/winter-br
 eak
DTSTART;VALUE=DATE:20191223
DTEND;VALUE=DATE:20200101
END:VEVENT
END:VCALENDAR
