BEGIN:VCALENDAR
VERSION:2.0
PRODID:SchoolNow
CALSCALE:GREGORIAN
BEGIN:VEVENT
UID:e014798c-b3b1-11e9-97d1-12d377995672
DTSTAMP:20190731T164016Z
SUMMARY:No School
URL;VALUE=URI:https://www.dist126.org/hazelgreen/calendar/2043303/no-school
DTSTART;VALUE=DATE:20191127
DTEND;VALUE=DATE:20191130
END:VEVENT
END:VCALENDAR
