BEGIN:VCALENDAR
VERSION:2.0
PRODID:SchoolNow
CALSCALE:GREGORIAN
BEGIN:VEVENT
UID:aef676c0-b3b1-11e9-b4a5-12d377995672
DTSTAMP:20190731T163910Z
SUMMARY:No School- Parent/Teacher Conferences
URL;VALUE=URI:https://www.dist126.org/hazelgreen/calendar/2043302/no-school
 -parent-teacher-conferences
DTSTART;VALUE=DATE:20191126
DTEND;VALUE=DATE:20191127
END:VEVENT
END:VCALENDAR
