BEGIN:VCALENDAR
VERSION:2.0
PRODID:SchoolNow
CALSCALE:GREGORIAN
BEGIN:VEVENT
UID:d37a4342-b3b0-11e9-b33b-0af589832426
DTSTAMP:20190731T164132Z
SUMMARY:Parent/Teacher Conferences Report Card
URL;VALUE=URI:https://www.dist126.org/hazelgreen/calendar/2043300/parent-te
 acher-conferences-report-card
DTSTART:20191125T220000Z
DTEND:20191126T013000Z
END:VEVENT
END:VCALENDAR
