BEGIN:VCALENDAR
VERSION:2.0
PRODID:SchoolNow
CALSCALE:GREGORIAN
BEGIN:VEVENT
UID:92bd6438-b3b0-11e9-8686-0af589832426
DTSTAMP:20190731T163652Z
SUMMARY:Early Dismissal-School Improvement Day
URL;VALUE=URI:https://www.dist126.org/hazelgreen/calendar/2043299/early-dis
 missal-school-improvement-day
DTSTART:20191125T143000Z
DTEND:20191125T174500Z
END:VEVENT
END:VCALENDAR
