BEGIN:VCALENDAR
VERSION:2.0
PRODID:SchoolNow
CALSCALE:GREGORIAN
BEGIN:VEVENT
UID:500ccb42-b3b0-11e9-86f7-0aa5a7728240
DTSTAMP:20190731T162905Z
SUMMARY:District 126 Turkey Trot @ PJH
LOCATION:PJH
URL;VALUE=URI:https://www.dist126.org/hazelgreen/calendar/2043298/district-
 126-turkey-trot-pjh
DTSTART:20191116T140000Z
DTEND:20191116T150000Z
END:VEVENT
END:VCALENDAR
