BEGIN:VCALENDAR
VERSION:2.0
PRODID:SchoolNow
CALSCALE:GREGORIAN
BEGIN:VEVENT
UID:f9ee53ac-b3af-11e9-9407-120011e96faa
DTSTAMP:20190731T162640Z
SUMMARY:No School
URL;VALUE=URI:https://www.dist126.org/hazelgreen/calendar/2043297/no-school
DTSTART;VALUE=DATE:20191111
DTEND;VALUE=DATE:20191112
END:VEVENT
END:VCALENDAR
