BEGIN:VCALENDAR
VERSION:2.0
PRODID:SchoolNow
CALSCALE:GREGORIAN
BEGIN:VEVENT
UID:cc83a87c-b3af-11e9-8b09-12dce420dd24
DTSTAMP:20190731T163516Z
SUMMARY:End of First Trimester
URL;VALUE=URI:https://www.dist126.org/hazelgreen/calendar/2043296/end-of-fi
 rst-trimester
DTSTART;VALUE=DATE:20191108
DTEND;VALUE=DATE:20191109
END:VEVENT
END:VCALENDAR
