BEGIN:VCALENDAR
VERSION:2.0
PRODID:SchoolNow
CALSCALE:GREGORIAN
BEGIN:VEVENT
UID:9a95e8a2-b3af-11e9-b9de-12dce420dd24
DTSTAMP:20190731T162400Z
SUMMARY:Red Ribbon Week
URL;VALUE=URI:https://www.dist126.org/hazelgreen/calendar/2043295/red-ribbo
 n-week
DTSTART;VALUE=DATE:20191021
DTEND;VALUE=DATE:20191026
END:VEVENT
END:VCALENDAR
