BEGIN:VCALENDAR
VERSION:2.0
PRODID:SchoolNow
CALSCALE:GREGORIAN
BEGIN:VEVENT
UID:3032ac34-b3af-11e9-b644-124e015e936a
DTSTAMP:20190731T162102Z
SUMMARY:School Board Meeting
URL;VALUE=URI:https://www.dist126.org/hazelgreen/calendar/2043294/school-bo
 ard-meeting
DTSTART:20191115T010000Z
DTEND:20191115T020000Z
END:VEVENT
END:VCALENDAR
