BEGIN:VCALENDAR
VERSION:2.0
PRODID:SchoolNow
CALSCALE:GREGORIAN
BEGIN:VEVENT
UID:be288e42-b3ae-11e9-96eb-124e015e936a
DTSTAMP:20190731T161750Z
SUMMARY:Halloween
URL;VALUE=URI:https://www.dist126.org/hazelgreen/calendar/2043293/halloween
DTSTART;VALUE=DATE:20191031
DTEND;VALUE=DATE:20191101
END:VEVENT
END:VCALENDAR
