BEGIN:VCALENDAR
VERSION:2.0
PRODID:SchoolNow
CALSCALE:GREGORIAN
BEGIN:VEVENT
UID:a5cca270-b3ae-11e9-bdd7-124e015e936a
DTSTAMP:20190731T161709Z
SUMMARY:Hazelgreen Kindergartner\, 1st\, 2nd Grade Performances
URL;VALUE=URI:https://www.dist126.org/hazelgreen/calendar/2043292/hazelgree
 n-kindergartner-1st-2nd-grade-performances
DTSTART:20191024T161300Z
DTEND:20191024T171300Z
END:VEVENT
END:VCALENDAR
