BEGIN:VCALENDAR
VERSION:2.0
PRODID:SchoolNow
CALSCALE:GREGORIAN
BEGIN:VEVENT
UID:1274af5e-b3ae-11e9-b715-0a903d07d222
DTSTAMP:20190731T161302Z
SUMMARY:Hazelgreen Service Club Nut\, Candy & Popcorn Sale Ends
URL;VALUE=URI:https://www.dist126.org/hazelgreen/calendar/2043291/hazelgree
 n-service-club-nut-candy-popcorn-sale-ends
DTSTART;VALUE=DATE:20191021
DTEND;VALUE=DATE:20191022
END:VEVENT
END:VCALENDAR
