BEGIN:VCALENDAR
VERSION:2.0
PRODID:SchoolNow
CALSCALE:GREGORIAN
BEGIN:VEVENT
UID:e4df709c-b3ad-11e9-9c77-0a903d07d222
DTSTAMP:20190731T161146Z
SUMMARY:Early Dismissal-School Improvement Day
URL;VALUE=URI:https://www.dist126.org/hazelgreen/calendar/2043290/early-dis
 missal-school-improvment-day
DTSTART:20191018T133000Z
DTEND:20191018T164500Z
END:VEVENT
END:VCALENDAR
