BEGIN:VCALENDAR
VERSION:2.0
PRODID:SchoolNow
CALSCALE:GREGORIAN
BEGIN:VEVENT
UID:aed594c2-b3ad-11e9-b2d3-0a903d07d222
DTSTAMP:20190731T161015Z
SUMMARY:Hazelgreen-PFO Meeting
URL;VALUE=URI:https://www.dist126.org/hazelgreen/calendar/2043289/hazelgree
 n-pfo-meeting
DTSTART:20191016T231500Z
DTEND:20191017T001500Z
END:VEVENT
END:VCALENDAR
