BEGIN:VCALENDAR
VERSION:2.0
PRODID:SchoolNow
CALSCALE:GREGORIAN
BEGIN:VEVENT
UID:8874befc-b3ad-11e9-b1f5-0a903d07d222
DTSTAMP:20190731T160911Z
SUMMARY:No School-Columbus Day
URL;VALUE=URI:https://www.dist126.org/hazelgreen/calendar/2043288/no-school
 -columbus-day
DTSTART;VALUE=DATE:20191014
DTEND;VALUE=DATE:20191015
END:VEVENT
END:VCALENDAR
