BEGIN:VCALENDAR
VERSION:2.0
PRODID:SchoolNow
CALSCALE:GREGORIAN
BEGIN:VEVENT
UID:5af670b0-b3ad-11e9-87eb-0a903d07d222
DTSTAMP:20190731T160754Z
SUMMARY:School Board Meeting
URL;VALUE=URI:https://www.dist126.org/hazelgreen/calendar/2043287/school-bo
 ard-meeting
DTSTART:20191011T000000Z
DTEND:20191011T010000Z
END:VEVENT
END:VCALENDAR
