BEGIN:VCALENDAR
VERSION:2.0
PRODID:SchoolNow
CALSCALE:GREGORIAN
BEGIN:VEVENT
UID:4105deac-b3ad-11e9-b52a-0a903d07d222
DTSTAMP:20190731T160711Z
SUMMARY:Yom Kippur Ends
URL;VALUE=URI:https://www.dist126.org/hazelgreen/calendar/2043286/yom-kippu
 r-ends
DTSTART:20191009T160600Z
DTEND:20191009T170600Z
END:VEVENT
END:VCALENDAR
