BEGIN:VCALENDAR
VERSION:2.0
PRODID:SchoolNow
CALSCALE:GREGORIAN
BEGIN:VEVENT
UID:23cb81ca-b3ad-11e9-a9e3-0a903d07d222
DTSTAMP:20190731T160622Z
SUMMARY:Yom Kippur Begins
URL;VALUE=URI:https://www.dist126.org/hazelgreen/calendar/2043285/yom-kippu
 r-begins
DTSTART:20191008T160500Z
DTEND:20191008T170500Z
END:VEVENT
END:VCALENDAR
