BEGIN:VCALENDAR
VERSION:2.0
PRODID:SchoolNow
CALSCALE:GREGORIAN
BEGIN:VEVENT
UID:019e9952-b3ad-11e9-a526-0a903d07d222
DTSTAMP:20190731T160524Z
SUMMARY:Hazelgreen Service Club Nut\, Candy & Popcorn Sale Begins
URL;VALUE=URI:https://www.dist126.org/hazelgreen/calendar/2043284/hazelgree
 n-service-club-nut-candy-popcorn-sale-begins
DTSTART:20191007T160400Z
DTEND:20191007T170400Z
END:VEVENT
END:VCALENDAR
