BEGIN:VCALENDAR
VERSION:2.0
PRODID:SchoolNow
CALSCALE:GREGORIAN
BEGIN:VEVENT
UID:c8aede2c-b3ac-11e9-8d62-0abd1a30efba
DTSTAMP:20190731T160349Z
SUMMARY:Hazelgreen-PFO Bingo Night
URL;VALUE=URI:https://www.dist126.org/hazelgreen/calendar/2043283/hazelgree
 n-pfo-bingo-night
DTSTART:20191004T160200Z
DTEND:20191004T170200Z
END:VEVENT
END:VCALENDAR
