BEGIN:VCALENDAR
VERSION:2.0
PRODID:SchoolNow
CALSCALE:GREGORIAN
BEGIN:VEVENT
UID:66080d0c-b3ac-11e9-8509-1218836e15e0
DTSTAMP:20190731T160103Z
SUMMARY:Hazelgreen Curriculum Night
URL;VALUE=URI:https://www.dist126.org/hazelgreen/calendar/2043281/hazelgree
 n-curriculum-night
DTSTART:20190829T233000Z
DTEND:20190830T010000Z
END:VEVENT
END:VCALENDAR
