BEGIN:VCALENDAR
VERSION:2.0
PRODID:SchoolNow
CALSCALE:GREGORIAN
BEGIN:VEVENT
UID:2c343470-b3ac-11e9-93b5-0aa5a7728240
DTSTAMP:20190731T155926Z
SUMMARY:School Improvement Day
URL;VALUE=URI:https://www.dist126.org/hazelgreen/calendar/2043280/school-im
 provement-day
DTSTART:20190920T133000Z
DTEND:20190920T164500Z
END:VEVENT
END:VCALENDAR
