BEGIN:VCALENDAR
VERSION:2.0
PRODID:SchoolNow
CALSCALE:GREGORIAN
BEGIN:VEVENT
UID:d48a2da6-b3ab-11e9-a8a9-0acb1a432d8e
DTSTAMP:20190731T155659Z
SUMMARY:Hazelgreen-PFO Meeting
URL;VALUE=URI:https://www.dist126.org/hazelgreen/calendar/2042865/hazelgree
 n-pfo-meeting
DTSTART:20190918T231500Z
DTEND:20190919T001500Z
END:VEVENT
END:VCALENDAR
