BEGIN:VCALENDAR
VERSION:2.0
PRODID:SchoolNow
CALSCALE:GREGORIAN
BEGIN:VEVENT
UID:babdbb5e-b3ab-11e9-a04b-0acb1a432d8e
DTSTAMP:20190731T155616Z
SUMMARY:Hazelgreen-PFO Ice Cream Social
URL;VALUE=URI:https://www.dist126.org/hazelgreen/calendar/2042864/hazelgree
 n-pfo-ice-cream-social
DTSTART:20190918T231500Z
DTEND:20190919T001500Z
END:VEVENT
END:VCALENDAR
