BEGIN:VCALENDAR
VERSION:2.0
PRODID:SchoolNow
CALSCALE:GREGORIAN
BEGIN:VEVENT
UID:8da6ef14-b3ab-11e9-842e-0acb1a432d8e
DTSTAMP:20190731T155500Z
SUMMARY:School Board Meeting
URL;VALUE=URI:https://www.dist126.org/hazelgreen/calendar/2042863/school-bo
 ard-meeting
DTSTART:20190913T000000Z
DTEND:20190913T020000Z
END:VEVENT
END:VCALENDAR
