BEGIN:VCALENDAR
VERSION:2.0
PRODID:SchoolNow
CALSCALE:GREGORIAN
BEGIN:VEVENT
UID:67c0cb44-b3ab-11e9-9613-0acb1a432d8e
DTSTAMP:20190731T155357Z
SUMMARY:Hazelgreen Fall Picture Day
URL;VALUE=URI:https://www.dist126.org/hazelgreen/calendar/2042862/hazelgree
 n-fall-picture-day
DTSTART;VALUE=DATE:20190912
DTEND;VALUE=DATE:20190913
END:VEVENT
END:VCALENDAR
