BEGIN:VCALENDAR
VERSION:2.0
PRODID:SchoolNow
CALSCALE:GREGORIAN
BEGIN:VEVENT
UID:4d61878e-b3ab-11e9-95c1-0acb1a432d8e
DTSTAMP:20190731T155313Z
SUMMARY:Hazelgreen Grandparents Day
URL;VALUE=URI:https://www.dist126.org/hazelgreen/calendar/2042861/hazelgree
 n-grandparents-day
DTSTART:20190910T124500Z
DTEND:20190910T140000Z
END:VEVENT
END:VCALENDAR
