BEGIN:VCALENDAR
VERSION:2.0
PRODID:SchoolNow
CALSCALE:GREGORIAN
BEGIN:VEVENT
UID:094f53be-b3ab-11e9-be02-12573106c398
DTSTAMP:20190731T160151Z
SUMMARY:Hazelgreen PFO Meeting
URL;VALUE=URI:https://www.dist126.org/hazelgreen/calendar/2042860/hazelgree
 n-pfo-meeting
DTSTART:20190821T231500Z
DTEND:20190822T001500Z
END:VEVENT
END:VCALENDAR
