BEGIN:VCALENDAR
VERSION:2.0
PRODID:SchoolNow
CALSCALE:GREGORIAN
BEGIN:VEVENT
UID:c7687d40-b3aa-11e9-a377-12573106c398
DTSTAMP:20190731T160127Z
SUMMARY:School Board Meeting
URL;VALUE=URI:https://www.dist126.org/hazelgreen/calendar/2042859/school-bo
 ard-meeting
DTSTART:20190809T000000Z
DTEND:20190809T020000Z
END:VEVENT
END:VCALENDAR
