BEGIN:VCALENDAR
VERSION:2.0
PRODID:SchoolNow
CALSCALE:GREGORIAN
BEGIN:VEVENT
UID:96138582-b3aa-11e9-ba5a-12573106c398
DTSTAMP:20190731T154805Z
SUMMARY:Kindergarten Parent Breakfast
URL;VALUE=URI:https://www.dist126.org/hazelgreen/calendar/2042858/kindergar
 ten-parent-breakfast
DTSTART:20190821T131500Z
DTEND:20190821T150000Z
END:VEVENT
END:VCALENDAR
