BEGIN:VCALENDAR
VERSION:2.0
PRODID:SchoolNow
CALSCALE:GREGORIAN
BEGIN:VEVENT
UID:58a5b8e6-b3aa-11e9-bb49-0acb1a432d8e
DTSTAMP:20190731T154622Z
SUMMARY:Kindergarten Meet and Greet
URL;VALUE=URI:https://www.dist126.org/hazelgreen/calendar/2042857/kindergar
 ten-meet-and-greet
DTSTART:20190820T090000Z
DTEND:20190820T220000Z
END:VEVENT
END:VCALENDAR
