BEGIN:VCALENDAR
VERSION:2.0
PRODID:SchoolNow
CALSCALE:GREGORIAN
BEGIN:VEVENT
UID:c4cf3a18-b3a7-11e9-aa17-0aa5a7728240
DTSTAMP:20190731T154955Z
SUMMARY:District 126 Back to School Picnic
LOCATION:Lane School
URL;VALUE=URI:https://www.dist126.org/hazelgreen/calendar/2042853/district-
 126-back-to-school-picnic
DTSTART:20190820T213000Z
DTEND:20190821T000000Z
END:VEVENT
END:VCALENDAR
