BEGIN:VCALENDAR
VERSION:2.0
PRODID:SchoolNow
CALSCALE:GREGORIAN
BEGIN:VEVENT
UID:b0a09538-b3a6-11e9-bc94-0abd1a30efba
DTSTAMP:20190731T152012Z
SUMMARY:No School - Labor Day
URL;VALUE=URI:https://www.dist126.org/hazelgreen/calendar/2042816/no-school
 -labor-day
DTSTART;VALUE=DATE:20190902
DTEND;VALUE=DATE:20190903
END:VEVENT
END:VCALENDAR
