BEGIN:VCALENDAR
VERSION:2.0
PRODID:SchoolNow
CALSCALE:GREGORIAN
BEGIN:VEVENT
UID:66427e5c-b3a6-11e9-897a-129dcb3e59a6
DTSTAMP:20190731T151807Z
SUMMARY:First day of School
URL;VALUE=URI:https://www.dist126.org/hazelgreen/calendar/2042814/first-day
 -of-school
DTSTART;VALUE=DATE:20190821
DTEND;VALUE=DATE:20190822
END:VEVENT
END:VCALENDAR
