BEGIN:VCALENDAR
VERSION:2.0
PRODID:SchoolNow
CALSCALE:GREGORIAN
BEGIN:VEVENT
UID:b3e1d33e-b3a5-11e9-b8b0-0aa5a7728240
DTSTAMP:20190731T151308Z
SUMMARY:Institute Day for Teachers
URL;VALUE=URI:https://www.dist126.org/hazelgreen/calendar/2042810/institute
 -day-for-teachers
DTSTART;VALUE=DATE:20190819
DTEND;VALUE=DATE:20190820
END:VEVENT
END:VCALENDAR
