BEGIN:VCALENDAR
VERSION:2.0
PRODID:SchoolNow
CALSCALE:GREGORIAN
BEGIN:VEVENT
UID:82d94e70-da95-11f0-99aa-0a58a9feac02
DTSTAMP:20251216T214513Z
SUMMARY:Band Concert
URL;VALUE=URI:https://www.dist126.org/hazelgreen/about/calendar/8824932/ban
 d-concert
DTSTART:20260311T230000Z
DTEND:20260312T000000Z
END:VEVENT
END:VCALENDAR
