BEGIN:VCALENDAR
VERSION:2.0
PRODID:SchoolNow
CALSCALE:GREGORIAN
BEGIN:VEVENT
UID:8749038a-da2f-11f0-89e4-0afffb1fe805
DTSTAMP:20251216T214513Z
SUMMARY:William Fitzgerald - Retirement IMRF & TRS
URL;VALUE=URI:https://www.dist126.org/hazelgreen/about/calendar/8824744/wil
 liam-fitzgerald-retirement-imrf-trs
DTSTART:20260113T163000Z
DTEND:20260113T181500Z
END:VEVENT
END:VCALENDAR
