BEGIN:VCALENDAR
VERSION:2.0
PRODID:SchoolNow
CALSCALE:GREGORIAN
BEGIN:VEVENT
UID:b25cb086-d6ff-11f0-a9a3-0a58a9feac02
DTSTAMP:20251216T214514Z
SUMMARY:Mentoring Sign-in
URL;VALUE=URI:https://www.dist126.org/hazelgreen/about/calendar/8822634/men
 toring-sign-in
DTSTART;VALUE=DATE:20270812
DTEND;VALUE=DATE:20270813
END:VEVENT
END:VCALENDAR
