BEGIN:VCALENDAR
VERSION:2.0
PRODID:SchoolNow
CALSCALE:GREGORIAN
BEGIN:VEVENT
UID:b3edf712-d6cc-11f0-a255-0e8abf0c6213
DTSTAMP:20251216T214514Z
SUMMARY:Literature Lunch Bunch
LOCATION:Room 17
URL;VALUE=URI:https://www.dist126.org/hazelgreen/about/calendar/8822186/lit
 erature-lunch-bunch
DTSTART:20270811T163500Z
DTEND:20270811T171500Z
ATTACH;FILENAME=Literature Lunchbunch Attendance 25/26;FMTTYPE=application/
 octet-stream:https://drive.google.com/open?id=1wHnmwvBXt89QdWgQtJvPGIJ1F-X
 cQh1o_eqnEcJECsY
END:VEVENT
END:VCALENDAR
