BEGIN:VCALENDAR
VERSION:2.0
PRODID:SchoolNow
CALSCALE:GREGORIAN
BEGIN:VEVENT
UID:b37277d6-d6cc-11f0-9aab-0e8abf0c6213
DTSTAMP:20251216T214513Z
SUMMARY:All School Assembly "Storm Science" hosted by the PFO
URL;VALUE=URI:https://www.dist126.org/hazelgreen/about/calendar/8822185/all
 -school-assembly-storm-science-hosted-by-the-pfo
DTSTART:20260213T160000Z
DTEND:20260213T171500Z
END:VEVENT
END:VCALENDAR
