BEGIN:VCALENDAR
VERSION:2.0
PRODID:SchoolNow
CALSCALE:GREGORIAN
BEGIN:VEVENT
UID:b37254e0-d6cc-11f0-b1b8-0e8abf0c6213
DTSTAMP:20251216T214513Z
SUMMARY:DLT-Grade Level Collaboration
URL;VALUE=URI:https://www.dist126.org/hazelgreen/about/calendar/8822184/dlt
 -grade-level-collaboration
DTSTART:20251217T133500Z
DTEND:20251217T141500Z
END:VEVENT
END:VCALENDAR
