BEGIN:VCALENDAR
VERSION:2.0
PRODID:SchoolNow
CALSCALE:GREGORIAN
BEGIN:VEVENT
UID:c4b93f72-d567-11f0-ac84-0a58a9feac02
DTSTAMP:20251216T214513Z
SUMMARY:Drama Club Presents: Happy the High-Tech Snowman
URL;VALUE=URI:https://www.dist126.org/hazelgreen/about/calendar/8820901/dra
 ma-club-presents-happy-the-high-tech-snowman
DTSTART:20251212T003000Z
DTEND:20251212T011500Z
END:VEVENT
END:VCALENDAR
