BEGIN:VCALENDAR
VERSION:2.0
PRODID:SchoolNow
CALSCALE:GREGORIAN
BEGIN:VEVENT
UID:d8bbc3a0-d468-11f0-a9fb-0ec5d7e21177
DTSTAMP:20251216T214513Z
SUMMARY:5th Grade Comic Book Club (Last One)
URL;VALUE=URI:https://www.dist126.org/hazelgreen/about/calendar/8819931/5th
 -grade-comic-book-club-last-one
DTSTART:20260121T205000Z
DTEND:20260121T214500Z
ATTACH;FILENAME=Notes - 5th Grade Comic Book Club (Last One);FMTTYPE=applic
 ation/octet-stream:https://docs.google.com/document/d/1dKPG8SsAJGdBw8K_XZu
 Rbz6BbKIFujjVEnN1NfKVjAM/edit
END:VEVENT
END:VCALENDAR
