BEGIN:VCALENDAR
VERSION:2.0
PRODID:SchoolNow
CALSCALE:GREGORIAN
BEGIN:VEVENT
UID:d8bbbd1a-d468-11f0-a703-0ec5d7e21177
DTSTAMP:20251216T214513Z
SUMMARY:5th Grade Comic Book Club
URL;VALUE=URI:https://www.dist126.org/hazelgreen/about/calendar/8819930/5th
 -grade-comic-book-club
DTSTART:20260120T205000Z
DTEND:20260120T214500Z
END:VEVENT
END:VCALENDAR
