BEGIN:VCALENDAR
VERSION:2.0
PRODID:SchoolNow
CALSCALE:GREGORIAN
BEGIN:VEVENT
UID:d81efb88-d468-11f0-83be-0ec5d7e21177
DTSTAMP:20251216T214513Z
SUMMARY:5th Grade Comic Book Club
URL;VALUE=URI:https://www.dist126.org/hazelgreen/about/calendar/8819929/5th
 -grade-comic-book-club
DTSTART:20260114T205000Z
DTEND:20260114T214500Z
END:VEVENT
END:VCALENDAR
