BEGIN:VCALENDAR
VERSION:2.0
PRODID:SchoolNow
CALSCALE:GREGORIAN
BEGIN:VEVENT
UID:d81ed7ca-d468-11f0-8a09-0ec5d7e21177
DTSTAMP:20251216T214513Z
SUMMARY:5th Grade Comic Book Club
URL;VALUE=URI:https://www.dist126.org/hazelgreen/about/calendar/8819928/5th
 -grade-comic-book-club
DTSTART:20260113T205000Z
DTEND:20260113T214500Z
ATTACH;FILENAME=Notes - 5th Grade Comic Book Club;FMTTYPE=application/octet
 -stream:https://docs.google.com/document/d/1joeM9rVcDo7iweqa_r0vN0cLXa5j4O
 hkHnU8o8-tJzQ/edit
END:VEVENT
END:VCALENDAR
