BEGIN:VCALENDAR
VERSION:2.0
PRODID:SchoolNow
CALSCALE:GREGORIAN
BEGIN:VEVENT
UID:00de9978-d0d3-11f0-bc2a-0affc7986827
DTSTAMP:20251216T214513Z
SUMMARY:Canva Club
URL;VALUE=URI:https://www.dist126.org/hazelgreen/about/calendar/8817146/can
 va-club
DTSTART:20260122T173500Z
DTEND:20260122T181500Z
ATTACH;FILENAME=Canva Club 2025-26;FMTTYPE=application/octet-stream:https:/
 /drive.google.com/open?id=14cibXLrrfboaFRiFntdj2u-6BkBi-ys5VW6qGsBcdiA
END:VEVENT
END:VCALENDAR
