BEGIN:VCALENDAR
VERSION:2.0
PRODID:SchoolNow
CALSCALE:GREGORIAN
BEGIN:VEVENT
UID:8a0b8e34-c644-11f0-9d1d-0a58a9feac02
DTSTAMP:20251216T214513Z
SUMMARY:Moana Musical at PJH K-3 9:15-10:45 4-6 12:45-2:00
URL;VALUE=URI:https://www.dist126.org/hazelgreen/about/calendar/8805436/moa
 na-musical-at-pjh-k-3-9-15-10-45-4-6-12-45-2-00
DTSTART:20251204T151500Z
DTEND:20251204T200000Z
END:VEVENT
END:VCALENDAR
