BEGIN:VCALENDAR
VERSION:2.0
PRODID:SchoolNow
CALSCALE:GREGORIAN
BEGIN:VEVENT
UID:9e61923c-c4ac-11f0-947e-0a58a9feac02
DTSTAMP:20251216T214513Z
SUMMARY:Kindergarten Field Trip BAC
URL;VALUE=URI:https://www.dist126.org/hazelgreen/about/calendar/8801934/kin
 dergarten-field-trip-bac
DTSTART:20260129T153000Z
DTEND:20260129T180000Z
END:VEVENT
END:VCALENDAR
